BEGIN:VCALENDAR
VERSION:2.0
PRODID:-//Pontiac Regional Chamber - ECPv6.15.18//NONSGML v1.0//EN
CALSCALE:GREGORIAN
METHOD:PUBLISH
X-WR-CALNAME:Pontiac Regional Chamber
X-ORIGINAL-URL:https://www.pontiacrc.com
X-WR-CALDESC:Events for Pontiac Regional Chamber
REFRESH-INTERVAL;VALUE=DURATION:PT1H
X-Robots-Tag:noindex
X-PUBLISHED-TTL:PT1H
BEGIN:VTIMEZONE
TZID:America/Detroit
BEGIN:DAYLIGHT
TZOFFSETFROM:-0500
TZOFFSETTO:-0400
TZNAME:EDT
DTSTART:20220313T070000
END:DAYLIGHT
BEGIN:STANDARD
TZOFFSETFROM:-0400
TZOFFSETTO:-0500
TZNAME:EST
DTSTART:20221106T060000
END:STANDARD
BEGIN:DAYLIGHT
TZOFFSETFROM:-0500
TZOFFSETTO:-0400
TZNAME:EDT
DTSTART:20230312T070000
END:DAYLIGHT
BEGIN:STANDARD
TZOFFSETFROM:-0400
TZOFFSETTO:-0500
TZNAME:EST
DTSTART:20231105T060000
END:STANDARD
BEGIN:DAYLIGHT
TZOFFSETFROM:-0500
TZOFFSETTO:-0400
TZNAME:EDT
DTSTART:20240310T070000
END:DAYLIGHT
BEGIN:STANDARD
TZOFFSETFROM:-0400
TZOFFSETTO:-0500
TZNAME:EST
DTSTART:20241103T060000
END:STANDARD
BEGIN:DAYLIGHT
TZOFFSETFROM:-0500
TZOFFSETTO:-0400
TZNAME:EDT
DTSTART:20250309T070000
END:DAYLIGHT
BEGIN:STANDARD
TZOFFSETFROM:-0400
TZOFFSETTO:-0500
TZNAME:EST
DTSTART:20251102T060000
END:STANDARD
END:VTIMEZONE
BEGIN:VEVENT
DTSTART;TZID=America/Detroit:20240503T090000
DTEND;TZID=America/Detroit:20240503T100000
DTSTAMP:20260417T220839
CREATED:20230804T040252Z
LAST-MODIFIED:20240801T232358Z
UID:9548-1714726800-1714730400@www.pontiacrc.com
SUMMARY:Peak Performance Zone Training with Mindfulness Institute International
DESCRIPTION:Join Us for Peak Performance Zone Training with the Mindfulness Institute International each 1st Friday at 9 AM. Registration is Required.\nThis is an opportunity to reliably reduce your stress and sense of overwhelm while building your resilience. The training is designed to be interactive and participants will be encouraged to take part in exercises that lead to experiencing greater intelligence capacity and entrepreneur success.\n*Just a reminder that there is no PRC Morning Networking on 1st Fridays.\nPlease register for Peak Performance at the link below: https://us02web.zoom.us/meeting/register/tZArcuysrTorG9dy5JsNuOBX2mh_i13-cR77
URL:https://www.pontiacrc.com/event/peak-performance-zone-training-with-mindfulness-institute-international/2024-05-03/
LOCATION:Zoom
CATEGORIES:Health and Wellness,Member Events
ATTACH;FMTTYPE=image/jpeg:https://www.pontiacrc.com/wp-content/uploads/2023/08/PRC-Zone-Training.pptx.jpg
ORGANIZER;CN="Mindfulness Institute of Michigan":MAILTO:riseabove@mindful-institute.org
END:VEVENT
BEGIN:VEVENT
DTSTART;TZID=America/Detroit:20230804T090000
DTEND;TZID=America/Detroit:20230804T100000
DTSTAMP:20260417T220839
CREATED:20230804T040252Z
LAST-MODIFIED:20240801T232348Z
UID:8847-1691139600-1691143200@www.pontiacrc.com
SUMMARY:Peak Performance Zone Training with Mindfulness Institute International
DESCRIPTION:Join Us for Peak Performance Zone Training with the Mindfulness Institute International each 1st Friday at 9 AM. Registration is Required.\nThis is an opportunity to reliably reduce your stress and sense of overwhelm while building your resilience. The training is designed to be interactive and participants will be encouraged to take part in exercises that lead to experiencing greater intelligence capacity and entrepreneur success.\n*Just a reminder that there is no PRC Morning Networking on 1st Fridays.\nPlease register for Peak Performance at the link below: https://us02web.zoom.us/meeting/register/tZArcuysrTorG9dy5JsNuOBX2mh_i13-cR77
URL:https://www.pontiacrc.com/event/peak-performance-zone-training-with-mindfulness-institute-international/2023-08-04/
LOCATION:Zoom
CATEGORIES:Health and Wellness,Member Events
ATTACH;FMTTYPE=image/jpeg:https://www.pontiacrc.com/wp-content/uploads/2023/08/PRC-Zone-Training.pptx.jpg
ORGANIZER;CN="Mindfulness Institute of Michigan":MAILTO:riseabove@mindful-institute.org
END:VEVENT
END:VCALENDAR